BEGIN:VCALENDAR
VERSION:2.0
PRODID:-//California Mens Gatherings - ECPv6.15.17.1//NONSGML v1.0//EN
CALSCALE:GREGORIAN
METHOD:PUBLISH
X-WR-CALNAME:California Mens Gatherings
X-ORIGINAL-URL:https://thecmg.org
X-WR-CALDESC:Events for California Mens Gatherings
REFRESH-INTERVAL;VALUE=DURATION:PT1H
X-Robots-Tag:noindex
X-PUBLISHED-TTL:PT1H
BEGIN:VTIMEZONE
TZID:America/Los_Angeles
BEGIN:DAYLIGHT
TZOFFSETFROM:-0800
TZOFFSETTO:-0700
TZNAME:PDT
DTSTART:20250309T100000
END:DAYLIGHT
BEGIN:STANDARD
TZOFFSETFROM:-0700
TZOFFSETTO:-0800
TZNAME:PST
DTSTART:20251102T090000
END:STANDARD
BEGIN:DAYLIGHT
TZOFFSETFROM:-0800
TZOFFSETTO:-0700
TZNAME:PDT
DTSTART:20260308T100000
END:DAYLIGHT
BEGIN:STANDARD
TZOFFSETFROM:-0700
TZOFFSETTO:-0800
TZNAME:PST
DTSTART:20261101T090000
END:STANDARD
BEGIN:DAYLIGHT
TZOFFSETFROM:-0800
TZOFFSETTO:-0700
TZNAME:PDT
DTSTART:20270314T100000
END:DAYLIGHT
BEGIN:STANDARD
TZOFFSETFROM:-0700
TZOFFSETTO:-0800
TZNAME:PST
DTSTART:20271107T090000
END:STANDARD
END:VTIMEZONE
BEGIN:VEVENT
DTSTART;TZID=America/Los_Angeles:20260426T150000
DTEND;TZID=America/Los_Angeles:20260426T170000
DTSTAMP:20260419T063146
CREATED:20260418T091012Z
LAST-MODIFIED:20260418T091012Z
UID:10000625-1777215600-1777222800@thecmg.org
SUMMARY:Monthly Coffee Klatch
DESCRIPTION:Just a chance to meet and hang with your CMG brothers. It’s a nice way to get started with CMG\, even if you don’t know anyone. The guys are friendly\, the beverages and food are good [and gay-owned!] and the location is EXCELLENT! “Usually” the last Sunday of the month…
URL:https://thecmg.org/event-item/monthly-coffee-klatch/
LOCATION:Javista\, in HOLLYWOOD
ATTACH;FMTTYPE=image/png:https://thecmg.org/wp-content/uploads/2026/04/Coffee-Klatch-Image.png
ORGANIZER;CN="Los Angeles Events":MAILTO:cmglosangeles@thecmg.org
END:VEVENT
END:VCALENDAR