BEGIN:VCALENDAR
VERSION:2.0
PRODID:-//California Mens Gatherings - ECPv6.15.17.1//NONSGML v1.0//EN
CALSCALE:GREGORIAN
METHOD:PUBLISH
X-WR-CALNAME:California Mens Gatherings
X-ORIGINAL-URL:https://thecmg.org
X-WR-CALDESC:Events for California Mens Gatherings
REFRESH-INTERVAL;VALUE=DURATION:PT1H
X-Robots-Tag:noindex
X-PUBLISHED-TTL:PT1H
BEGIN:VTIMEZONE
TZID:America/Los_Angeles
BEGIN:DAYLIGHT
TZOFFSETFROM:-0800
TZOFFSETTO:-0700
TZNAME:PDT
DTSTART:20250309T100000
END:DAYLIGHT
BEGIN:STANDARD
TZOFFSETFROM:-0700
TZOFFSETTO:-0800
TZNAME:PST
DTSTART:20251102T090000
END:STANDARD
BEGIN:DAYLIGHT
TZOFFSETFROM:-0800
TZOFFSETTO:-0700
TZNAME:PDT
DTSTART:20260308T100000
END:DAYLIGHT
BEGIN:STANDARD
TZOFFSETFROM:-0700
TZOFFSETTO:-0800
TZNAME:PST
DTSTART:20261101T090000
END:STANDARD
BEGIN:DAYLIGHT
TZOFFSETFROM:-0800
TZOFFSETTO:-0700
TZNAME:PDT
DTSTART:20270314T100000
END:DAYLIGHT
BEGIN:STANDARD
TZOFFSETFROM:-0700
TZOFFSETTO:-0800
TZNAME:PST
DTSTART:20271107T090000
END:STANDARD
END:VTIMEZONE
BEGIN:VEVENT
DTSTART;TZID=America/Los_Angeles:20260428T190000
DTEND;TZID=America/Los_Angeles:20260428T213000
DTSTAMP:20260419T062553
CREATED:20260418T091529Z
LAST-MODIFIED:20260418T091606Z
UID:10000626-1777402800-1777411800@thecmg.org
SUMMARY:Monthly Moonlight Hike\, Greek Theatre to top of Mt Hollywood
DESCRIPTION:Yes\, it’s by moonlight. No\, you do NOT need a flashlight! [okay\, you’ll have your phone if you need one]. Park just above the Greek Theatre [free!] and we’ll walk to the top of the mountain! Nice guys\, nice time\, great exercise!
URL:https://thecmg.org/event-item/monthly-moonlight-hike-greek-theatre-to-top-of-mt-hollywood/
LOCATION:Greek Theater\, 2700 Vermont Avenue\, Los Angeles\, California\, 90027\, United States
ATTACH;FMTTYPE=image/png:https://thecmg.org/wp-content/uploads/2026/04/Observatory-Image.png
ORGANIZER;CN="Los Angeles Events":MAILTO:cmglosangeles@thecmg.org
END:VEVENT
END:VCALENDAR